BEGIN:VCALENDAR
VERSION:2.0
PRODID:-//Trinity River Book Festival - ECPv6.15.17.1//NONSGML v1.0//EN
CALSCALE:GREGORIAN
METHOD:PUBLISH
X-WR-CALNAME:Trinity River Book Festival
X-ORIGINAL-URL:https://trinityriverbookfest.com
X-WR-CALDESC:Events for Trinity River Book Festival
REFRESH-INTERVAL;VALUE=DURATION:PT1H
X-Robots-Tag:noindex
X-PUBLISHED-TTL:PT1H
BEGIN:VTIMEZONE
TZID:America/Chicago
BEGIN:DAYLIGHT
TZOFFSETFROM:-0600
TZOFFSETTO:-0500
TZNAME:CDT
DTSTART:20230312T080000
END:DAYLIGHT
BEGIN:STANDARD
TZOFFSETFROM:-0500
TZOFFSETTO:-0600
TZNAME:CST
DTSTART:20231105T070000
END:STANDARD
BEGIN:DAYLIGHT
TZOFFSETFROM:-0600
TZOFFSETTO:-0500
TZNAME:CDT
DTSTART:20240310T080000
END:DAYLIGHT
BEGIN:STANDARD
TZOFFSETFROM:-0500
TZOFFSETTO:-0600
TZNAME:CST
DTSTART:20241103T070000
END:STANDARD
BEGIN:DAYLIGHT
TZOFFSETFROM:-0600
TZOFFSETTO:-0500
TZNAME:CDT
DTSTART:20250309T080000
END:DAYLIGHT
BEGIN:STANDARD
TZOFFSETFROM:-0500
TZOFFSETTO:-0600
TZNAME:CST
DTSTART:20251102T070000
END:STANDARD
BEGIN:DAYLIGHT
TZOFFSETFROM:-0600
TZOFFSETTO:-0500
TZNAME:CDT
DTSTART:20260308T080000
END:DAYLIGHT
BEGIN:STANDARD
TZOFFSETFROM:-0500
TZOFFSETTO:-0600
TZNAME:CST
DTSTART:20261101T070000
END:STANDARD
END:VTIMEZONE
BEGIN:VEVENT
DTSTART;TZID=America/Chicago:20250913T130000
DTEND;TZID=America/Chicago:20250913T133000
DTSTAMP:20260423T055940
CREATED:20250904T093250Z
LAST-MODIFIED:20250905T185209Z
UID:10178-1757768400-1757770200@trinityriverbookfest.com
SUMMARY:Discover Divine Grace\, Find Hope\, and Embrace Self-Acceptance
DESCRIPTION:Dr. Shawna M. Dixon\, Anita Glaster\, Devin Harper\, and Danna J. Minnieweather share powerful testimonies and stories of faith\, resilience\, and renewal. This uplifting conversation invites readers to embrace grace\, find hope in life’s challenges\, and walk confidently in self-acceptance.
URL:https://trinityriverbookfest.com/event/discover-divine-grace-find-hope-and-embrace-self-acceptance-2/
LOCATION:River Stage\, TRBF\, Fort Worth\, TX
CATEGORIES:Faith & Inspiration
ATTACH;FMTTYPE=image/png:https://trinityriverbookfest.com/wp-content/uploads/2025/09/14.png
END:VEVENT
BEGIN:VEVENT
DTSTART;TZID=America/Chicago:20240914T100000
DTEND;TZID=America/Chicago:20240914T102000
DTSTAMP:20260423T055940
CREATED:20240813T004738Z
LAST-MODIFIED:20240908T121819Z
UID:9035-1726308000-1726309200@trinityriverbookfest.com
SUMMARY:Discover Divine Grace\, Find Hope\, and Embrace Self-Acceptance
DESCRIPTION:Panelist: \nTimothy V. Hughes\, Rev.\, MDiv.\, Karen A. Calafat\, Candace Gray \nand James Suggs \nModerated by John Lucas \n    \n\n\n\nRegister Here for Trinity River Book Festival Updates\, Reminders Promotions\, Giveaways & More!!!
URL:https://trinityriverbookfest.com/event/discover-divine-grace-find-hope-and-embrace-self-acceptance/
LOCATION:River Stage\, TRBF\, Fort Worth\, TX
CATEGORIES:Faith & Inspiration
ATTACH;FMTTYPE=image/png:https://trinityriverbookfest.com/wp-content/uploads/2024/08/TRBF-30.png
END:VEVENT
END:VCALENDAR